BEGIN:VCALENDAR
VERSION:2.0
PRODID:-//Newbury &amp; Crookham Golf Club - ECPv6.15.20//NONSGML v1.0//EN
CALSCALE:GREGORIAN
METHOD:PUBLISH
X-WR-CALNAME:Newbury &amp; Crookham Golf Club
X-ORIGINAL-URL:https://www.newburygolf.co.uk
X-WR-CALDESC:Events for Newbury &amp; Crookham Golf Club
REFRESH-INTERVAL;VALUE=DURATION:PT1H
X-Robots-Tag:noindex
X-PUBLISHED-TTL:PT1H
BEGIN:VTIMEZONE
TZID:UTC
BEGIN:STANDARD
TZOFFSETFROM:+0000
TZOFFSETTO:+0000
TZNAME:UTC
DTSTART:20240101T000000
END:STANDARD
END:VTIMEZONE
BEGIN:VEVENT
DTSTART;VALUE=DATE:20250412
DTEND;VALUE=DATE:20250413
DTSTAMP:20260423T173119
CREATED:20250211T154722Z
LAST-MODIFIED:20250211T154722Z
UID:10001273-1744416000-1744502399@www.newburygolf.co.uk
SUMMARY:PORTAL CUP
DESCRIPTION:Flag Competition
URL:https://www.newburygolf.co.uk/event/portal-cup-6/
CATEGORIES:Members,Mens
END:VEVENT
END:VCALENDAR