BEGIN:VCALENDAR
VERSION:2.0
PRODID:-//Newbury &amp; Crookham Golf Club - ECPv6.15.20//NONSGML v1.0//EN
CALSCALE:GREGORIAN
METHOD:PUBLISH
X-ORIGINAL-URL:https://www.newburygolf.co.uk
X-WR-CALDESC:Events for Newbury &amp; Crookham Golf Club
REFRESH-INTERVAL;VALUE=DURATION:PT1H
X-Robots-Tag:noindex
X-PUBLISHED-TTL:PT1H
BEGIN:VTIMEZONE
TZID:UTC
BEGIN:STANDARD
TZOFFSETFROM:+0000
TZOFFSETTO:+0000
TZNAME:UTC
DTSTART:20240101T000000
END:STANDARD
END:VTIMEZONE
BEGIN:VEVENT
DTSTART;TZID=UTC:20250413T000000
DTEND;TZID=UTC:20250413T130000
DTSTAMP:20260423T173236
CREATED:20250211T160017Z
LAST-MODIFIED:20250211T160117Z
UID:10001275-1744502400-1744549200@www.newburygolf.co.uk
SUMMARY:TVJGL Junior Match
DESCRIPTION:
URL:https://www.newburygolf.co.uk/event/tvjgl-junior-match/
CATEGORIES:Juniors,Members
END:VEVENT
BEGIN:VEVENT
DTSTART;VALUE=DATE:20250413
DTEND;VALUE=DATE:20250414
DTSTAMP:20260423T173236
CREATED:20250211T155202Z
LAST-MODIFIED:20250211T155202Z
UID:10001274-1744502400-1744588799@www.newburygolf.co.uk
SUMMARY:Ladies Alternative Stableford
DESCRIPTION:
URL:https://www.newburygolf.co.uk/event/ladies-alternative-stableford-31/
CATEGORIES:Ladies,Members
END:VEVENT
END:VCALENDAR