BEGIN:VCALENDAR
VERSION:2.0
PRODID:-//Newbury &amp; Crookham Golf Club - ECPv6.15.20//NONSGML v1.0//EN
CALSCALE:GREGORIAN
METHOD:PUBLISH
X-ORIGINAL-URL:https://www.newburygolf.co.uk
X-WR-CALDESC:Events for Newbury &amp; Crookham Golf Club
REFRESH-INTERVAL;VALUE=DURATION:PT1H
X-Robots-Tag:noindex
X-PUBLISHED-TTL:PT1H
BEGIN:VTIMEZONE
TZID:UTC
BEGIN:STANDARD
TZOFFSETFROM:+0000
TZOFFSETTO:+0000
TZNAME:UTC
DTSTART:20240101T000000
END:STANDARD
END:VTIMEZONE
BEGIN:VEVENT
DTSTART;TZID=UTC:20250520T090000
DTEND;TZID=UTC:20250520T103000
DTSTAMP:20260421T090215
CREATED:20250213T115033Z
LAST-MODIFIED:20250213T115033Z
UID:10001316-1747731600-1747737000@www.newburygolf.co.uk
SUMMARY:Ladies Stableford & Win Moore Trophy
DESCRIPTION:
URL:https://www.newburygolf.co.uk/event/ladies-stableford-win-moore-trophy-4/
CATEGORIES:Ladies
END:VEVENT
BEGIN:VEVENT
DTSTART;TZID=UTC:20250520T110000
DTEND;TZID=UTC:20250520T113000
DTSTAMP:20260421T090215
CREATED:20250213T115403Z
LAST-MODIFIED:20250213T115403Z
UID:10001317-1747738800-1747740600@www.newburygolf.co.uk
SUMMARY:Waterloovile Golf society
DESCRIPTION:
URL:https://www.newburygolf.co.uk/event/waterloovile-golf-society/
END:VEVENT
BEGIN:VEVENT
DTSTART;TZID=UTC:20250520T120400
DTEND;TZID=UTC:20250520T122000
DTSTAMP:20260421T090215
CREATED:20250425T112855Z
LAST-MODIFIED:20250425T112855Z
UID:10001345-1747742640-1747743600@www.newburygolf.co.uk
SUMMARY:Essex Seniors
DESCRIPTION:
URL:https://www.newburygolf.co.uk/event/essex-seniors/
END:VEVENT
BEGIN:VEVENT
DTSTART;TZID=UTC:20250520T130000
DTEND;TZID=UTC:20250520T133000
DTSTAMP:20260421T090215
CREATED:20250213T115611Z
LAST-MODIFIED:20250213T115611Z
UID:10001318-1747746000-1747747800@www.newburygolf.co.uk
SUMMARY:19+ match v Reading
DESCRIPTION:
URL:https://www.newburygolf.co.uk/event/19-match-v-reading/
CATEGORIES:Mens
END:VEVENT
END:VCALENDAR