BEGIN:VCALENDAR
VERSION:2.0
PRODID:-//Newbury &amp; Crookham Golf Club - ECPv6.15.20//NONSGML v1.0//EN
CALSCALE:GREGORIAN
METHOD:PUBLISH
X-ORIGINAL-URL:https://www.newburygolf.co.uk
X-WR-CALDESC:Events for Newbury &amp; Crookham Golf Club
REFRESH-INTERVAL;VALUE=DURATION:PT1H
X-Robots-Tag:noindex
X-PUBLISHED-TTL:PT1H
BEGIN:VTIMEZONE
TZID:UTC
BEGIN:STANDARD
TZOFFSETFROM:+0000
TZOFFSETTO:+0000
TZNAME:UTC
DTSTART:20240101T000000
END:STANDARD
END:VTIMEZONE
BEGIN:VEVENT
DTSTART;TZID=UTC:20250529T090000
DTEND;TZID=UTC:20250529T100000
DTSTAMP:20260423T181936
CREATED:20250217T094701Z
LAST-MODIFIED:20250217T094701Z
UID:10001328-1748509200-1748512800@www.newburygolf.co.uk
SUMMARY:Seniors Match v Donnington Grove
DESCRIPTION:
URL:https://www.newburygolf.co.uk/event/seniors-match-v-donnington-grove/
CATEGORIES:Seniors
END:VEVENT
BEGIN:VEVENT
DTSTART;TZID=UTC:20250529T110000
DTEND;TZID=UTC:20250529T113000
DTSTAMP:20260423T181936
CREATED:20250217T094937Z
LAST-MODIFIED:20250217T094937Z
UID:10001329-1748516400-1748518200@www.newburygolf.co.uk
SUMMARY:Wandering Wrinklies Golf Society
DESCRIPTION:
URL:https://www.newburygolf.co.uk/event/wandering-wrinklies-golf-society/
END:VEVENT
END:VCALENDAR