BEGIN:VCALENDAR
VERSION:2.0
PRODID:-//Newbury &amp; Crookham Golf Club - ECPv6.15.20//NONSGML v1.0//EN
CALSCALE:GREGORIAN
METHOD:PUBLISH
X-WR-CALNAME:Newbury &amp; Crookham Golf Club
X-ORIGINAL-URL:https://www.newburygolf.co.uk
X-WR-CALDESC:Events for Newbury &amp; Crookham Golf Club
REFRESH-INTERVAL;VALUE=DURATION:PT1H
X-Robots-Tag:noindex
X-PUBLISHED-TTL:PT1H
BEGIN:VTIMEZONE
TZID:UTC
BEGIN:STANDARD
TZOFFSETFROM:+0000
TZOFFSETTO:+0000
TZNAME:UTC
DTSTART:20240101T000000
END:STANDARD
END:VTIMEZONE
BEGIN:VEVENT
DTSTART;TZID=UTC:20251015T134500
DTEND;TZID=UTC:20251015T163000
DTSTAMP:20260425T015343
CREATED:20250508T114247Z
LAST-MODIFIED:20250508T114247Z
UID:10001464-1760535900-1760545800@www.newburygolf.co.uk
SUMMARY:Bridge Drive
DESCRIPTION:
URL:https://www.newburygolf.co.uk/event/bridge-drive/
CATEGORIES:Members,Social & Other
END:VEVENT
END:VCALENDAR