BEGIN:VCALENDAR
VERSION:2.0
PRODID:-//Newbury &amp; Crookham Golf Club - ECPv6.15.20//NONSGML v1.0//EN
CALSCALE:GREGORIAN
METHOD:PUBLISH
X-ORIGINAL-URL:https://www.newburygolf.co.uk
X-WR-CALDESC:Events for Newbury &amp; Crookham Golf Club
REFRESH-INTERVAL;VALUE=DURATION:PT1H
X-Robots-Tag:noindex
X-PUBLISHED-TTL:PT1H
BEGIN:VTIMEZONE
TZID:UTC
BEGIN:STANDARD
TZOFFSETFROM:+0000
TZOFFSETTO:+0000
TZNAME:UTC
DTSTART:20240101T000000
END:STANDARD
END:VTIMEZONE
BEGIN:VEVENT
DTSTART;VALUE=DATE:20250302
DTEND;VALUE=DATE:20250303
DTSTAMP:20260422T101820
CREATED:20250210T083453Z
LAST-MODIFIED:20250210T083516Z
UID:10001231-1740873600-1740959999@www.newburygolf.co.uk
SUMMARY:March Winter Competition
DESCRIPTION:Sponsored by \n9AM Shotgun Start
URL:https://www.newburygolf.co.uk/event/march-winter-competition-2/
CATEGORIES:Juniors,Ladies,Members,Mens,Mixed Teams,Seniors
END:VEVENT
BEGIN:VEVENT
DTSTART;TZID=UTC:20250315T103000
DTEND;TZID=UTC:20250315T150000
DTSTAMP:20260422T101820
CREATED:20250210T094747Z
LAST-MODIFIED:20250210T094747Z
UID:10001243-1742034600-1742050800@www.newburygolf.co.uk
SUMMARY:International Comp
DESCRIPTION:Mixed Team Event from 1st and 10th tees
URL:https://www.newburygolf.co.uk/event/international-comp/
CATEGORIES:Ladies,Mens,Mixed Teams,Seniors
END:VEVENT
BEGIN:VEVENT
DTSTART;TZID=UTC:20250323T120000
DTEND;TZID=UTC:20250323T140000
DTSTAMP:20260422T101820
CREATED:20250210T101017Z
LAST-MODIFIED:20250210T101017Z
UID:10001254-1742731200-1742738400@www.newburygolf.co.uk
SUMMARY:Gilroy Cup
DESCRIPTION:Mixed Foursome Knocckout Qualifying competition.
URL:https://www.newburygolf.co.uk/event/gilroy-cup-5/
CATEGORIES:Ladies,Mens,Mixed Teams
END:VEVENT
END:VCALENDAR