BEGIN:VCALENDAR
VERSION:2.0
PRODID:-//Newbury &amp; Crookham Golf Club - ECPv6.15.20//NONSGML v1.0//EN
CALSCALE:GREGORIAN
METHOD:PUBLISH
X-ORIGINAL-URL:https://www.newburygolf.co.uk
X-WR-CALDESC:Events for Newbury &amp; Crookham Golf Club
REFRESH-INTERVAL;VALUE=DURATION:PT1H
X-Robots-Tag:noindex
X-PUBLISHED-TTL:PT1H
BEGIN:VTIMEZONE
TZID:UTC
BEGIN:STANDARD
TZOFFSETFROM:+0000
TZOFFSETTO:+0000
TZNAME:UTC
DTSTART:20190101T000000
END:STANDARD
END:VTIMEZONE
BEGIN:VEVENT
DTSTART;TZID=UTC:20200306T190000
DTEND;TZID=UTC:20200306T233000
DTSTAMP:20260424T121320
CREATED:20200115T162536Z
LAST-MODIFIED:20200115T162536Z
UID:10000476-1583521200-1583537400@www.newburygolf.co.uk
SUMMARY:Captains Quiz Night
DESCRIPTION:Entry Sheet on notice board in clubhouse prior to the event
URL:https://www.newburygolf.co.uk/event/captains-quiz-night-2/
LOCATION:Newbury & Crookham Golf Club\, Newbury\, Berkshire\, RG14 5NP\, United Kingdom
CATEGORIES:Social & Other,Social Events
END:VEVENT
END:VCALENDAR