BEGIN:VCALENDAR
VERSION:2.0
PRODID:-//Newbury &amp; Crookham Golf Club - ECPv6.15.20//NONSGML v1.0//EN
CALSCALE:GREGORIAN
METHOD:PUBLISH
X-WR-CALNAME:Newbury &amp; Crookham Golf Club
X-ORIGINAL-URL:https://www.newburygolf.co.uk
X-WR-CALDESC:Events for Newbury &amp; Crookham Golf Club
REFRESH-INTERVAL;VALUE=DURATION:PT1H
X-Robots-Tag:noindex
X-PUBLISHED-TTL:PT1H
BEGIN:VTIMEZONE
TZID:UTC
BEGIN:STANDARD
TZOFFSETFROM:+0000
TZOFFSETTO:+0000
TZNAME:UTC
DTSTART:20240101T000000
END:STANDARD
END:VTIMEZONE
BEGIN:VEVENT
DTSTART;TZID=UTC:20250401T090000
DTEND;TZID=UTC:20250401T103000
DTSTAMP:20260423T143249
CREATED:20250211T151709Z
LAST-MODIFIED:20250211T151709Z
UID:10001261-1743498000-1743503400@www.newburygolf.co.uk
SUMMARY:Ladies Medal
DESCRIPTION:Start Times from 0930-1030
URL:https://www.newburygolf.co.uk/event/ladies-medal-28/
CATEGORIES:Ladies,Members
END:VEVENT
BEGIN:VEVENT
DTSTART;TZID=UTC:20250401T100000
DTEND;TZID=UTC:20250401T103000
DTSTAMP:20260423T143249
CREATED:20250213T104009Z
LAST-MODIFIED:20250213T104009Z
UID:10001295-1743501600-1743503400@www.newburygolf.co.uk
SUMMARY:Senior Ladies (from 10th Tee)
DESCRIPTION:
URL:https://www.newburygolf.co.uk/event/senior-ladies-from-10th-tee/
CATEGORIES:Ladies
END:VEVENT
BEGIN:VEVENT
DTSTART;TZID=UTC:20250402T090000
DTEND;TZID=UTC:20250402T130000
DTSTAMP:20260423T143249
CREATED:20250211T151931Z
LAST-MODIFIED:20250211T151931Z
UID:10001262-1743584400-1743598800@www.newburygolf.co.uk
SUMMARY:Lady Captain's Coffee Morning
DESCRIPTION:Start Times 0900 – 1252\, approximately 72 players
URL:https://www.newburygolf.co.uk/event/lady-captains-coffee-morning-2/
CATEGORIES:Ladies,Members,Mixed Teams
END:VEVENT
BEGIN:VEVENT
DTSTART;TZID=UTC:20250403T130000
DTEND;TZID=UTC:20250403T133000
DTSTAMP:20260423T143249
CREATED:20250211T152307Z
LAST-MODIFIED:20250211T152307Z
UID:10001264-1743685200-1743687000@www.newburygolf.co.uk
SUMMARY:The Roses Match
DESCRIPTION:19+ v Ladies Bronze Match \n1300 – 1324
URL:https://www.newburygolf.co.uk/event/the-roses-match/
CATEGORIES:Members
END:VEVENT
BEGIN:VEVENT
DTSTART;TZID=UTC:20250403T190000
DTEND;TZID=UTC:20250403T220000
DTSTAMP:20260423T143249
CREATED:20250211T152031Z
LAST-MODIFIED:20250211T152031Z
UID:10001263-1743706800-1743717600@www.newburygolf.co.uk
SUMMARY:Golf Club AGM
DESCRIPTION:
URL:https://www.newburygolf.co.uk/event/golf-club-agm/
CATEGORIES:Members
END:VEVENT
BEGIN:VEVENT
DTSTART;VALUE=DATE:20250405
DTEND;VALUE=DATE:20250406
DTSTAMP:20260423T143249
CREATED:20250211T152609Z
LAST-MODIFIED:20250211T152609Z
UID:10001265-1743811200-1743897599@www.newburygolf.co.uk
SUMMARY:Captain's Drive In
DESCRIPTION:Shotgun Start at 0800 and 1330\nCaptain Seif Morbi to drive in at 1315 \n 
URL:https://www.newburygolf.co.uk/event/captains-drive-in-5/
CATEGORIES:Members
END:VEVENT
BEGIN:VEVENT
DTSTART;VALUE=DATE:20250406
DTEND;VALUE=DATE:20250407
DTSTAMP:20260423T143249
CREATED:20250211T152720Z
LAST-MODIFIED:20250211T152740Z
UID:10001266-1743897600-1743983999@www.newburygolf.co.uk
SUMMARY:Ladies Alternative Coronation Foursomes
DESCRIPTION:
URL:https://www.newburygolf.co.uk/event/ladies-alternative-coronation-foursomes/
CATEGORIES:Ladies,Members
END:VEVENT
BEGIN:VEVENT
DTSTART;TZID=UTC:20250406T120000
DTEND;TZID=UTC:20250406T123000
DTSTAMP:20260423T143249
CREATED:20250211T152910Z
LAST-MODIFIED:20250211T152910Z
UID:10001267-1743940800-1743942600@www.newburygolf.co.uk
SUMMARY:Junior Team v Calcot
DESCRIPTION:Match – Tee times from 1200 to 1230
URL:https://www.newburygolf.co.uk/event/junior-team-v-calcot/
CATEGORIES:Juniors,Members
END:VEVENT
BEGIN:VEVENT
DTSTART;TZID=UTC:20250407T083000
DTEND;TZID=UTC:20250407T083000
DTSTAMP:20260423T143249
CREATED:20250211T153023Z
LAST-MODIFIED:20250211T153023Z
UID:10001268-1744014600-1744014600@www.newburygolf.co.uk
SUMMARY:Seniors Spring Qualifier
DESCRIPTION:From 0830
URL:https://www.newburygolf.co.uk/event/seniors-spring-qualifier-2/
CATEGORIES:Members,Seniors
END:VEVENT
BEGIN:VEVENT
DTSTART;TZID=UTC:20250407T190000
DTEND;TZID=UTC:20250407T190000
DTSTAMP:20260423T143249
CREATED:20250211T153123Z
LAST-MODIFIED:20250211T153123Z
UID:10001269-1744052400-1744052400@www.newburygolf.co.uk
SUMMARY:Management Committee Meeting
DESCRIPTION:
URL:https://www.newburygolf.co.uk/event/management-committee-meeting/
CATEGORIES:Members
END:VEVENT
BEGIN:VEVENT
DTSTART;TZID=UTC:20250408T090000
DTEND;TZID=UTC:20250408T103000
DTSTAMP:20260423T143249
CREATED:20250211T153240Z
LAST-MODIFIED:20250211T153240Z
UID:10001270-1744102800-1744108200@www.newburygolf.co.uk
SUMMARY:Ladies Coronation Foursomes
DESCRIPTION:Start Times from 0900 to 1000
URL:https://www.newburygolf.co.uk/event/ladies-coronation-foursomes-2/
CATEGORIES:Ladies,Members
END:VEVENT
BEGIN:VEVENT
DTSTART;TZID=UTC:20250409T123000
DTEND;TZID=UTC:20250409T124500
DTSTAMP:20260423T143249
CREATED:20250211T153424Z
LAST-MODIFIED:20250211T153523Z
UID:10001271-1744201800-1744202700@www.newburygolf.co.uk
SUMMARY:The Bull Golf Society
DESCRIPTION:Start Times from 1236 to 1244
URL:https://www.newburygolf.co.uk/event/the-bull-golf-society/
CATEGORIES:Members,Visiting Parties
END:VEVENT
BEGIN:VEVENT
DTSTART;VALUE=DATE:20250410
DTEND;VALUE=DATE:20250411
DTSTAMP:20260423T143249
CREATED:20250211T154530Z
LAST-MODIFIED:20250211T154610Z
UID:10001272-1744243200-1744329599@www.newburygolf.co.uk
SUMMARY:Ladies v Bearwood Lakes AWAY MATCH
DESCRIPTION:
URL:https://www.newburygolf.co.uk/event/ladies-v-bearwood-lakes-away/
CATEGORIES:Members
END:VEVENT
BEGIN:VEVENT
DTSTART;VALUE=DATE:20250412
DTEND;VALUE=DATE:20250413
DTSTAMP:20260423T143249
CREATED:20250211T154722Z
LAST-MODIFIED:20250211T154722Z
UID:10001273-1744416000-1744502399@www.newburygolf.co.uk
SUMMARY:PORTAL CUP
DESCRIPTION:Flag Competition
URL:https://www.newburygolf.co.uk/event/portal-cup-6/
CATEGORIES:Members,Mens
END:VEVENT
BEGIN:VEVENT
DTSTART;TZID=UTC:20250413T000000
DTEND;TZID=UTC:20250413T130000
DTSTAMP:20260423T143249
CREATED:20250211T160017Z
LAST-MODIFIED:20250211T160117Z
UID:10001275-1744502400-1744549200@www.newburygolf.co.uk
SUMMARY:TVJGL Junior Match
DESCRIPTION:
URL:https://www.newburygolf.co.uk/event/tvjgl-junior-match/
CATEGORIES:Juniors,Members
END:VEVENT
BEGIN:VEVENT
DTSTART;VALUE=DATE:20250413
DTEND;VALUE=DATE:20250414
DTSTAMP:20260423T143249
CREATED:20250211T155202Z
LAST-MODIFIED:20250211T155202Z
UID:10001274-1744502400-1744588799@www.newburygolf.co.uk
SUMMARY:Ladies Alternative Stableford
DESCRIPTION:
URL:https://www.newburygolf.co.uk/event/ladies-alternative-stableford-31/
CATEGORIES:Ladies,Members
END:VEVENT
BEGIN:VEVENT
DTSTART;VALUE=DATE:20250414
DTEND;VALUE=DATE:20250415
DTSTAMP:20260423T143249
CREATED:20250211T160502Z
LAST-MODIFIED:20250211T160524Z
UID:10001277-1744588800-1744675199@www.newburygolf.co.uk
SUMMARY:Over 60s v Henley AWAY
DESCRIPTION:Away Match at Henley
URL:https://www.newburygolf.co.uk/event/over-60s-v-henley-away/
CATEGORIES:Members,Seniors
END:VEVENT
BEGIN:VEVENT
DTSTART;TZID=UTC:20250414T110000
DTEND;TZID=UTC:20250414T110000
DTSTAMP:20260423T143249
CREATED:20250211T160309Z
LAST-MODIFIED:20250211T160309Z
UID:10001276-1744628400-1744628400@www.newburygolf.co.uk
SUMMARY:Ladies v Hartley Witney
DESCRIPTION:Home Match from 11am
URL:https://www.newburygolf.co.uk/event/ladies-v-hartley-witney/
CATEGORIES:Ladies,Members
END:VEVENT
BEGIN:VEVENT
DTSTART;TZID=UTC:20250415T090000
DTEND;TZID=UTC:20250415T103000
DTSTAMP:20260423T143249
CREATED:20250211T161229Z
LAST-MODIFIED:20250211T161250Z
UID:10001278-1744707600-1744713000@www.newburygolf.co.uk
SUMMARY:Ladies Stableford
DESCRIPTION:Tee Times from 0900 to 1030
URL:https://www.newburygolf.co.uk/event/ladies-stableford-38/
CATEGORIES:Ladies,Members
END:VEVENT
BEGIN:VEVENT
DTSTART;TZID=UTC:20250417T090000
DTEND;TZID=UTC:20250417T110000
DTSTAMP:20260423T143249
CREATED:20250211T161436Z
LAST-MODIFIED:20250211T161436Z
UID:10001279-1744880400-1744887600@www.newburygolf.co.uk
SUMMARY:Newbury & Crookham Texas Scramble
DESCRIPTION:0900-1100 Teeing off from both 1st and 10th Tees
URL:https://www.newburygolf.co.uk/event/newbury-crookham-texas-scramble/
CATEGORIES:Members,Open Events
END:VEVENT
BEGIN:VEVENT
DTSTART;VALUE=DATE:20250418
DTEND;VALUE=DATE:20250419
DTSTAMP:20260423T143249
CREATED:20250211T161519Z
LAST-MODIFIED:20250211T161519Z
UID:10001280-1744934400-1745020799@www.newburygolf.co.uk
SUMMARY:GOOD FRIDAY
DESCRIPTION:
URL:https://www.newburygolf.co.uk/event/good-friday/
CATEGORIES:Members
END:VEVENT
BEGIN:VEVENT
DTSTART;VALUE=DATE:20250419
DTEND;VALUE=DATE:20250420
DTSTAMP:20260423T143249
CREATED:20250211T161610Z
LAST-MODIFIED:20250211T161610Z
UID:10001281-1745020800-1745107199@www.newburygolf.co.uk
SUMMARY:Club Medal & Rutherford Cup
DESCRIPTION:
URL:https://www.newburygolf.co.uk/event/club-medal-rutherford-cup-2/
CATEGORIES:Members
END:VEVENT
BEGIN:VEVENT
DTSTART;VALUE=DATE:20250420
DTEND;VALUE=DATE:20250421
DTSTAMP:20260423T143249
CREATED:20250211T161723Z
LAST-MODIFIED:20250211T161723Z
UID:10001282-1745107200-1745193599@www.newburygolf.co.uk
SUMMARY:EASTER SUNDAY
DESCRIPTION:
URL:https://www.newburygolf.co.uk/event/easter-sunday/
CATEGORIES:Members
END:VEVENT
BEGIN:VEVENT
DTSTART;TZID=UTC:20250420T120000
DTEND;TZID=UTC:20250420T130000
DTSTAMP:20260423T143249
CREATED:20250211T162743Z
LAST-MODIFIED:20250211T162743Z
UID:10001283-1745150400-1745154000@www.newburygolf.co.uk
SUMMARY:Junior Competition
DESCRIPTION:
URL:https://www.newburygolf.co.uk/event/junior-competition-17/
CATEGORIES:Juniors,Members
END:VEVENT
BEGIN:VEVENT
DTSTART;VALUE=DATE:20250421
DTEND;VALUE=DATE:20250422
DTSTAMP:20260423T143249
CREATED:20250211T162936Z
LAST-MODIFIED:20250211T162936Z
UID:10001284-1745193600-1745279999@www.newburygolf.co.uk
SUMMARY:EASTER MONDAY
DESCRIPTION:
URL:https://www.newburygolf.co.uk/event/easter-monday/
CATEGORIES:Members
END:VEVENT
BEGIN:VEVENT
DTSTART;VALUE=DATE:20250421
DTEND;VALUE=DATE:20250422
DTSTAMP:20260423T143249
CREATED:20250211T163020Z
LAST-MODIFIED:20250211T163020Z
UID:10001285-1745193600-1745279999@www.newburygolf.co.uk
SUMMARY:Ladies Alternative Australian Spoons
DESCRIPTION:
URL:https://www.newburygolf.co.uk/event/ladies-alternative-australian-spoons-6/
CATEGORIES:Ladies,Members
END:VEVENT
BEGIN:VEVENT
DTSTART;TZID=UTC:20250422T093000
DTEND;TZID=UTC:20250422T101500
DTSTAMP:20260423T143249
CREATED:20250212T154903Z
LAST-MODIFIED:20250212T155106Z
UID:10001286-1745314200-1745316900@www.newburygolf.co.uk
SUMMARY:Ladies Australian Spoons
DESCRIPTION:Tee times 9:30-10:15
URL:https://www.newburygolf.co.uk/event/ladies-australian-spoons-6/
END:VEVENT
BEGIN:VEVENT
DTSTART;TZID=UTC:20250422T120000
DTEND;TZID=UTC:20250422T130000
DTSTAMP:20260423T143249
CREATED:20250212T155157Z
LAST-MODIFIED:20250212T155157Z
UID:10001287-1745323200-1745326800@www.newburygolf.co.uk
SUMMARY:Seniors George Adams Goblet
DESCRIPTION:
URL:https://www.newburygolf.co.uk/event/seniors-george-adams-goblet/
END:VEVENT
BEGIN:VEVENT
DTSTART;VALUE=DATE:20250426
DTEND;VALUE=DATE:20250427
DTSTAMP:20260423T143249
CREATED:20250212T164034Z
LAST-MODIFIED:20250212T164034Z
UID:10001288-1745625600-1745711999@www.newburygolf.co.uk
SUMMARY:Ladies Alternative Ping Competition
DESCRIPTION:No reserved tee time bookings
URL:https://www.newburygolf.co.uk/event/ladies-alternative-ping-competition-2/
END:VEVENT
BEGIN:VEVENT
DTSTART;TZID=UTC:20250427T130000
DTEND;TZID=UTC:20250427T140000
DTSTAMP:20260423T143249
CREATED:20250212T164111Z
LAST-MODIFIED:20250212T164111Z
UID:10001289-1745758800-1745762400@www.newburygolf.co.uk
SUMMARY:Mixed Match v North Oxford (H)
DESCRIPTION:Tee times 1pm-2pm
URL:https://www.newburygolf.co.uk/event/mixed-match-v-north-oxford-h/
END:VEVENT
BEGIN:VEVENT
DTSTART;TZID=UTC:20250428T090000
DTEND;TZID=UTC:20250428T094000
DTSTAMP:20260423T143249
CREATED:20250212T164204Z
LAST-MODIFIED:20250212T164204Z
UID:10001290-1745830800-1745833200@www.newburygolf.co.uk
SUMMARY:Over 60s vs Sonning (H)
DESCRIPTION:Tee times: 9:00-9:40
URL:https://www.newburygolf.co.uk/event/over-60s-vs-sonning-h/
END:VEVENT
BEGIN:VEVENT
DTSTART;TZID=UTC:20250429T090000
DTEND;TZID=UTC:20250429T103000
DTSTAMP:20260423T143249
CREATED:20250212T164245Z
LAST-MODIFIED:20250212T164245Z
UID:10001291-1745917200-1745922600@www.newburygolf.co.uk
SUMMARY:Ladies Ping Competition
DESCRIPTION:Tee times: 9:00-10:30
URL:https://www.newburygolf.co.uk/event/ladies-ping-competition-4/
END:VEVENT
BEGIN:VEVENT
DTSTART;TZID=UTC:20250429T130000
DTEND;TZID=UTC:20250429T140000
DTSTAMP:20260423T143249
CREATED:20250212T164328Z
LAST-MODIFIED:20250212T164328Z
UID:10001292-1745931600-1745935200@www.newburygolf.co.uk
SUMMARY:19+ Spring Competition
DESCRIPTION:Tee times: 13:00-14:00
URL:https://www.newburygolf.co.uk/event/19-spring-competition/
END:VEVENT
BEGIN:VEVENT
DTSTART;TZID=UTC:20250430T120400
DTEND;TZID=UTC:20250430T122800
DTSTAMP:20260423T143249
CREATED:20250212T164421Z
LAST-MODIFIED:20250212T164421Z
UID:10001293-1746014640-1746016080@www.newburygolf.co.uk
SUMMARY:The Gentlemens Golf Society
DESCRIPTION:Tee times: 12:04-12:28
URL:https://www.newburygolf.co.uk/event/the-gentlemens-golf-society/
END:VEVENT
END:VCALENDAR