BEGIN:VCALENDAR
VERSION:2.0
PRODID:-//Newbury &amp; Crookham Golf Club - ECPv6.15.20//NONSGML v1.0//EN
CALSCALE:GREGORIAN
METHOD:PUBLISH
X-WR-CALNAME:Newbury &amp; Crookham Golf Club
X-ORIGINAL-URL:https://www.newburygolf.co.uk
X-WR-CALDESC:Events for Newbury &amp; Crookham Golf Club
REFRESH-INTERVAL;VALUE=DURATION:PT1H
X-Robots-Tag:noindex
X-PUBLISHED-TTL:PT1H
BEGIN:VTIMEZONE
TZID:UTC
BEGIN:STANDARD
TZOFFSETFROM:+0000
TZOFFSETTO:+0000
TZNAME:UTC
DTSTART:20240101T000000
END:STANDARD
END:VTIMEZONE
BEGIN:VEVENT
DTSTART;TZID=UTC:20250105T080000
DTEND;TZID=UTC:20250105T123000
DTSTAMP:20260419T120402
CREATED:20241017T155930Z
LAST-MODIFIED:20250108T102529Z
UID:10001213-1736064000-1736080200@www.newburygolf.co.uk
SUMMARY:January Winter Competition - Cancelled
DESCRIPTION:Cancelled due to weather
URL:https://www.newburygolf.co.uk/event/january-winter-competition-4/
CATEGORIES:Ladies,Members,Mens,Mixed Teams
END:VEVENT
END:VCALENDAR