BEGIN:VCALENDAR
VERSION:2.0
PRODID:-//Newbury &amp; Crookham Golf Club - ECPv6.15.20//NONSGML v1.0//EN
CALSCALE:GREGORIAN
METHOD:PUBLISH
X-ORIGINAL-URL:https://www.newburygolf.co.uk
X-WR-CALDESC:Events for Newbury &amp; Crookham Golf Club
REFRESH-INTERVAL;VALUE=DURATION:PT1H
X-Robots-Tag:noindex
X-PUBLISHED-TTL:PT1H
BEGIN:VTIMEZONE
TZID:UTC
BEGIN:STANDARD
TZOFFSETFROM:+0000
TZOFFSETTO:+0000
TZNAME:UTC
DTSTART:20190101T000000
END:STANDARD
END:VTIMEZONE
BEGIN:VEVENT
DTSTART;TZID=UTC:20200402T100000
DTEND;TZID=UTC:20200402T104500
DTSTAMP:20260424T023407
CREATED:20200102T122732Z
LAST-MODIFIED:20200102T123252Z
UID:10000397-1585821600-1585824300@www.newburygolf.co.uk
SUMMARY:Senior Ladies 1st 10.00-10.45
DESCRIPTION:
URL:https://www.newburygolf.co.uk/event/senior-ladies-1st-10-00-10-45/
LOCATION:Newbury & Crookham Golf Club\, Newbury\, Berkshire\, RG14 5NP\, United Kingdom
END:VEVENT
END:VCALENDAR