BEGIN:VCALENDAR
VERSION:2.0
PRODID:-//Newbury &amp; Crookham Golf Club - ECPv6.15.20//NONSGML v1.0//EN
CALSCALE:GREGORIAN
METHOD:PUBLISH
X-WR-CALNAME:Newbury &amp; Crookham Golf Club
X-ORIGINAL-URL:https://www.newburygolf.co.uk
X-WR-CALDESC:Events for Newbury &amp; Crookham Golf Club
REFRESH-INTERVAL;VALUE=DURATION:PT1H
X-Robots-Tag:noindex
X-PUBLISHED-TTL:PT1H
BEGIN:VTIMEZONE
TZID:UTC
BEGIN:STANDARD
TZOFFSETFROM:+0000
TZOFFSETTO:+0000
TZNAME:UTC
DTSTART:20190101T000000
END:STANDARD
END:VTIMEZONE
BEGIN:VEVENT
DTSTART;TZID=UTC:20200425T190000
DTEND;TZID=UTC:20200425T233000
DTSTAMP:20260424T154341
CREATED:20200115T162141Z
LAST-MODIFIED:20200115T162223Z
UID:10000475-1587841200-1587857400@www.newburygolf.co.uk
SUMMARY:St Georges Night Social Event
DESCRIPTION:Details TBC
URL:https://www.newburygolf.co.uk/event/st-georges-night-social-event/
LOCATION:Newbury & Crookham Golf Club\, Newbury\, Berkshire\, RG14 5NP\, United Kingdom
CATEGORIES:Social & Other,Social Events
END:VEVENT
END:VCALENDAR