BEGIN:VCALENDAR
VERSION:2.0
PRODID:-//Newbury &amp; Crookham Golf Club - ECPv6.15.20//NONSGML v1.0//EN
CALSCALE:GREGORIAN
METHOD:PUBLISH
X-WR-CALNAME:Newbury &amp; Crookham Golf Club
X-ORIGINAL-URL:https://www.newburygolf.co.uk
X-WR-CALDESC:Events for Newbury &amp; Crookham Golf Club
REFRESH-INTERVAL;VALUE=DURATION:PT1H
X-Robots-Tag:noindex
X-PUBLISHED-TTL:PT1H
BEGIN:VTIMEZONE
TZID:UTC
BEGIN:STANDARD
TZOFFSETFROM:+0000
TZOFFSETTO:+0000
TZNAME:UTC
DTSTART:20190101T000000
END:STANDARD
END:VTIMEZONE
BEGIN:VEVENT
DTSTART;TZID=UTC:20200511T000000
DTEND;TZID=UTC:20200511T000000
DTSTAMP:20260422T091843
CREATED:20200131T121143Z
LAST-MODIFIED:20200131T121143Z
UID:10000498-1589155200-1589155200@www.newburygolf.co.uk
SUMMARY:Entries Go Live for Men's Invitation
DESCRIPTION:Entry sheets available from the office
URL:https://www.newburygolf.co.uk/event/entries-go-live-for-mens-invitation/
LOCATION:Newbury & Crookham Golf Club\, Newbury\, Berkshire\, RG14 5NP\, United Kingdom
END:VEVENT
END:VCALENDAR